Workbook

Sheet NAV
C2: NAZIV DEPOZITARA
A5: Naziv UCITS fonda: | K5: Datum
A9: VRIJEDNOST IMOVINE UCITS FONDA
A12: R. Broj | B12: Vrsta imovine | J12: Iznos
A13: I (1+2+3+4) | B13: Vrijednost prenosivih hartija od vrijednosti | J13: =SUM(J14:M17) -> 0
A14: 1. | B14: Vrijednost finansijskih instrumenata po fer vrijednosti na aktivnom tržištu | J14: =SUMIFS('I. Portfolio'!J3:J15,'I. Portfolio'!B3:B15,"finansijski instrument na aktivnom tržištu") -> 0
A15: 2. | B15: Vrijednost finansijskih instrumenata po fer vrijednosti na neaktivnom tržištu | J15: =SUMIFS('I. Portfolio'!J3:J15,'I. Portfolio'!B3:B15,"finansijski instrument na neaktivnom tržištu") -> 0
A16: 3. | B16: Vrijednost udjela investicionih fondova | J16: =SUMIFS('I. Portfolio'!J3:J15,'I. Portfolio'!B3:B15,"udio u investicionog fonda") -> 0
A17: 4. | B17: Vrijednost derivativnih instrumenata | J17: =SUMIFS('I. Portfolio'!J3:J15,'I. Portfolio'!B3:B15,"derivativni finansijski instrument") -> 0
A18: II | B18: Vrijednost novčanih sredstava | J18: =H47 -> 0
A19: III | B19: Vrijednost finansijskih intrumenata vrednovanih po amortizacionom trošku | J19: =SUM('III.1 Oročeni depoziti'!J3:J5)+SUM('III.2 Duž HOV do dospijeća'!J3:J5) -> 0
A20: IV | B20: Vrijednost potraživanja | J20: =L57 -> 0
A21: V (I+II+III+IV) | B21: UKUPNA VRIJEDNOST IMOVINE | J21: =J13+J18+J19+J20 -> 0
A22: VI | B22: Ukupne obaveze iz prethodnog perioda | J22: =G87 -> 0
A23: VII | B23: Ukupne dnevne obaveze | J23: =H87 -> 0
A26: NETO VRIJEDNOST INVESTICIONE IMOVINE I UDJELA UCITS FONDA
A29: UKUPNA NETO VRIJEDNOST IMOVINE UCITS FONDA (NAV) | J29: =J21-J22-J23 -> 0
A30: Ukupni broj udjela
A31: UKUPNA NETO VRIJEDNOST UDJELA | J31: =IFERROR(J29/J30,0) -> 0
A32: Promjena vrijednosti udjela u odnosu na prethodni dan
A34: Obračun neto vrijednosti imovine utvrdio/la | G34: Kontrolisao/la
A36: _________________________________________ | G36: ___________________________________
A39: PREGLEG NOVČANIH SREDSTAVA I POTRAŽIVANJA UCITS FONDA | L39: Datum
A43: II NOVČANA SREDSTVA KOD FINANSIJSKIH INSTITUCIJA
A44: Rb. | B44: Finansijka institucija | H44: Stanje novčanih sredsava
A45: 1…
A46: …n
A47: ukupno: | H47: =SUM(H45:J46) -> 0
A51: IV POTRAŽIVANJA
A52: Rb. | B52: Vrsta potraživanja | L52: Iznos
A53: 1.
A54: …
A55: n
A57: VRIJEDNOST UKUPNIH POTRAŽIVANJA: | L57: =SUM(L53:M55) -> 0
A62: VRIJEDNOST OBAVEZA UCITS FONDA
I63: Datum
A66: Obračun NAV-osnovica za obračun naknade za upravljanje
G69: Godišnja nakanada | H69: Dnevna naknada
A70: Vrijednost naknade Društva za upravljanje na dan | G70: % | H70: %
A71: Vrijednost obaveza za depozitara na dan | G71: % | H71: %
...

Sheet I. Portfolio
B1: I. PORTFOLIO
B2: vrsta prenosivih HOV | C2: ISIN | D2: simbol | E2: naziv | F2: količina (max10 decimala) | G2: cijena (max 10 decimale) | H2: valuta | I2: kurs | J2: vrijednost u EUR | K2: procenat u neto imovini | L2: procenat u emitentu
J3: =IFERROR(F3*G3/I3,0) -> 0 | K3: =IFERROR(J3/NAV!J29,0) -> 0 | L3: %
J4: =IFERROR(F4*G4/I4,0) -> 0 | K4: =IFERROR(J4/NAV!J30,0) -> 0 | L4: %
J5: =IFERROR(F5*G5/I5,0) -> 0 | K5: =IFERROR(J5/NAV!J31,0) -> 0 | L5: %
J6: =IFERROR(F6*G6/I6,0) -> 0 | K6: =IFERROR(J6/NAV!J32,0) -> 0 | L6: %
J7: =IFERROR(F7*G7/I7,0) -> 0 | K7: =IFERROR(J7/NAV!J33,0) -> 0 | L7: %
J8: =IFERROR(F8*G8/I8,0) -> 0 | K8: =IFERROR(J8/NAV!J34,0) -> 0 | L8: %
J9: =IFERROR(F9*G9/I9,0) -> 0 | K9: =IFERROR(J9/NAV!J35,0) -> 0 | L9: %
J10: =IFERROR(F10*G10/I10,0) -> 0 | K10: =IFERROR(J10/NAV!J36,0) -> 0 | L10: %
J11: =IFERROR(F11*G11/I11,0) -> 0 | K11: =IFERROR(J11/NAV!J37,0) -> 0 | L11: %
J12: =IFERROR(F12*G12/I12,0) -> 0 | K12: =IFERROR(J12/NAV!J38,0) -> 0 | L12: %
J13: =IFERROR(F13*G13/I13,0) -> 0 | K13: =IFERROR(J13/NAV!J39,0) -> 0 | L13: %
J14: =IFERROR(F14*G14/I14,0) -> 0 | K14: =IFERROR(J14/NAV!J40,0) -> 0 | L14: %
J15: =IFERROR(F15*G15/I15,0) -> 0 | K15: =IFERROR(J15/NAV!J41,0) -> 0 | L15: %

Sheet III.1 Oročeni depoziti
A1: III.1 OROČENI DEPOZITI
A2: podatak | B2: Naziv Banke | C2: Država banke | D2: Datum ugovaranja | E2: Datum dospijeća | F2: Ugovoreni iznos glavnice u valuti | G2: Valuta | H2: Kurs | I2: Iznos kamata u valuti | J2: Zbir glavnice i kamate EUR | K2: % od neto imovine
A3: 1 | J3: =IFERROR((F3+I3)/H3,0) -> 0 | K3: =IFERROR(J3/NAV!J29,0) -> 0
A4: ... | J4: =IFERROR((F4+I4)/H4,0) -> 0 | K4: =IFERROR(J4/NAV!J30,0) -> 0
A5: n | J5: =IFERROR((F5+I5)/H5,0) -> 0 | K5: =IFERROR(J5/NAV!J31,0) -> 0

Sheet III.2 Duž HOV do dospijeća
A1: III.2 DUŽNIČKE HOV DO DOSPIJEĆA
A2: podatak | B2: Vrsta dužničkog papira | C2: ISIN | D2: Naziv izdavaoca | E2: Država izdavaoca | F2: Nominalna vrijednost | G2: Iznos kamate | H2: Valuta | I2: Kurs | J2: Zbir glavnice i kamate EUR | K2: % od neto imovine
A3: 1 | J3: =IFERROR((F3+G3)/I3,0) -> 0 | K3: =IFERROR(J3/NAV!J29,0) -> 0
A4: ... | J4: =IFERROR((F4+G4)/I4,0) -> 0 | K4: =IFERROR(J4/NAV!J30,0) -> 0
A5: n | J5: =IFERROR((F5+G5)/I5,0) -> 0 | K5: =IFERROR(J5/NAV!J31,0) -> 0
